BEGIN:VCALENDAR
VERSION:2.0
PRODID:-//hacksw/handcal//NONSGML v1.0//EN
BEGIN:VEVENT
DTSTAMP:20240511T073000Z
DTSTART:20240511T073000Z
DTEND:20240511T093000Z
LOCATION:Schuhmarkt, Parchim, 19370, Deutschland
SUMMARY:"CDU hört zu!" - mit Ilka Rohr, Sebastian Köhn und Wolfgang Waldmüller
END:VEVENT
END:VCALENDAR
