BEGIN:VCALENDAR
VERSION:2.0
PRODID:-//hacksw/handcal//NONSGML v1.0//EN
BEGIN:VEVENT
DTSTAMP:20240504T073000Z
DTSTART:20240504T073000Z
DTEND:20240504T093000Z
LOCATION:Marktplatz Parchim, Schuhmarkt, Parchim, 19370, Deutschland
SUMMARY:"CDU hört zu" - Kommunalwahl 2024
END:VEVENT
END:VCALENDAR
