BEGIN:VCALENDAR
VERSION:2.0
PRODID:-//hacksw/handcal//NONSGML v1.0//EN
BEGIN:VEVENT
DTSTAMP:20240127T083000Z
DTSTART:20240127T083000Z
DTEND:20240127T103000Z
LOCATION:Schuhmarkt, Parchim, 19370, Deutschland
SUMMARY:CDU hört zu!
END:VEVENT
END:VCALENDAR
